BEGIN:VCALENDAR
VERSION:2.0
PRODID:-//RIGHTHERE//CALENDARIZE IT V3.2//EN
BEGIN:VEVENT
UID:10512-events@sfcanaries.com
DTSTART:20260516T000500Z
DTEND:20260516T030000Z
DTSTAMP:20251021T201925Z
SUMMARY:@ Lincoln
URL:https://sfcanaries.com/events/lincoln-2026-05-15
LOCATION:Haymarket Park
END:VEVENT
END:VCALENDAR