BEGIN:VCALENDAR
VERSION:2.0
PRODID:-//RIGHTHERE//CALENDARIZE IT V3.2//EN
BEGIN:VEVENT
UID:10520-events@sfcanaries.com
DTSTART:20260523T223500Z
DTEND:20260524T003500Z
DTSTAMP:20251021T201927Z
SUMMARY:vs Chicago
URL:https://sfcanaries.com/events/chicago-2026-05-23
LOCATION:The Birdcage
END:VEVENT
END:VCALENDAR