BEGIN:VCALENDAR
VERSION:2.0
PRODID:-//RIGHTHERE//CALENDARIZE IT V3.2//EN
BEGIN:VEVENT
UID:10579-events@sfcanaries.com
DTSTART:20260729T050000Z
DTEND:20260729T050000Z
DTSTAMP:20251021T201936Z
SUMMARY:@ Lake Country
URL:https://sfcanaries.com/events/lake-country-2026-07-29
LOCATION:Wisconsin Brewing Company Park
END:VEVENT
END:VCALENDAR